BEGIN:VCALENDAR
VERSION:2.0
PRODID:-//CAPSE - ECPv6.15.20//NONSGML v1.0//EN
CALSCALE:GREGORIAN
METHOD:PUBLISH
X-ORIGINAL-URL:https://capse.org
X-WR-CALDESC:Eventos para CAPSE
REFRESH-INTERVAL;VALUE=DURATION:PT1H
X-Robots-Tag:noindex
X-PUBLISHED-TTL:PT1H
BEGIN:VTIMEZONE
TZID:America/Mexico_City
BEGIN:STANDARD
TZOFFSETFROM:-0600
TZOFFSETTO:-0600
TZNAME:CST
DTSTART:20250101T000000
END:STANDARD
END:VTIMEZONE
BEGIN:VEVENT
DTSTART;TZID=America/Mexico_City:20260301T090000
DTEND;TZID=America/Mexico_City:20260301T150000
DTSTAMP:20260425T145145
CREATED:20260221T072828Z
LAST-MODIFIED:20260221T182553Z
UID:2400-1772355600-1772377200@capse.org
SUMMARY:Método F.O.T.S.
DESCRIPTION:El programa First on the Scene creado por la NAEMT en colaboración con la Asociación Internacional de Jefes de Bomberos IAFC\, ofrece capacitar a todas las personas en la respuesta básica ante emergencias que presentan una amenaza para la vida\, mientras llega el personal del servicio médico de emergencia. El curso se imparte a través de clases teóricas y estaciones prácticas\, los participantes adquieren las habilidades necesarias para solicitar ayuda de manera efectiva y apoyar de manera adecuada hasta la llegada del personal paramédico. \n\n\n\n \n\n\n\n\n\nF.O.T.S. es un acrónimo utilizado en capacitación de primeros auxilios para recordar los pasos básicos de actuación ante una emergencia.\n\n\n\n \n\n\n\n\n\n\n\n \n\n\n\n\n\n\n\n \n\n\n\n \n\n\n\n \n\n\n\n \n\n\n\n\n\n \n\n\n\n \n\n\n\nUBICACION: \n\n\n\n\n\n\n\n \n\n\n\n \n\n\n\n \n\n\n\n \n\n\n\n6 horas de conocimientos\, preguntas\, respuestas y mucho más!!! \n\n\n\n \n\n\n\n \n\n\n\n \n\n\n\n \n\n\n\n\n\n\n\n \n\n\n\n \n\n\n\nPROCEDIMIENTO DE INSCRIPCION: \n\n\n\n1. Realiza el depósito o trasferencia bancaria\, por la cantidad de $950.00 MXN (NOVECIENTOS CINCUENTA PESOS 00/100 M.N.) a nuestra cuenta bancaria Citi Banamex o por medio de la aplicación vía Clip. \n\n\n\n \n\n\n\n \n\n\n\n \n\n\n\nCUENTA CLABE 002180701240301867\n\n\n\n \n\n\n\n2. Envíanos un mensaje de whatsapp adjuntando: \n\n\n\n\nCopia de una identificación\n\n\n\nCaptura del comprobante de pago.\n\n\n\n\nLos costos están sujetos a cambios sin previo aviso. Al efectuar tu depósito inicial\, aseguras el pago sin modificación alguna. \n\n\n\n#armas #pistola  #tiro #capacitacion #stopthebleed #escoltas #policías #militares  \n\n\n\n \n\n\n\n\n\nAsegura y confirma tu participación\n\n\n\n\n\n \n\n\n\n \n\n\n\n\n\n\n\n \n\n\n\n \n\n\n\n\n	\n		\n\n			\n			\n\n							\n					\n						Próximos eventos					\n				\n			\n			\n				\n											\n\n	\n	\n		\n			Abr		\n		\n			26		\n	\n\n\n	\n		\n			\n\n				\n					\n		\n		09:00 – 18:00	\n	\n					\n	\n		Trauma First Responder	\n\n				\n\n				\n			\n		\n	\n\n\n											\n\n	\n	\n		\n			May		\n		\n			6		\n	\n\n\n	\n		\n			\n\n				\n					\n		\n		18:00 – 21:00	\n	\n					\n	\n		DELITOS MAGICO-RELIGIOSOS	\n\n				\n\n				\n			\n		\n	\n\n\n											\n\n	\n	\n		\n			May		\n		\n			8		\n	\n\n\n	\n		\n			\n\n				\n					\n		\n		18:00 – 21:00	\n	\n					\n	\n		Dactiloscopía aplicada a la identificación humana	\n\n				\n\n				\n			\n		\n	\n\n\n									\n\n				\n	\n		Ver calendario	\n\n\n					\n	\n\n\n\n\n\n\n \n\n\n\nCursos recomendados \n\n\n\n\n\n\n\n\n\n\n\n \n\n\n\n \n\n\n\nINICIO
URL:https://capse.org/event/metodo-fots/
ATTACH;FMTTYPE=image/png:https://capse.org/wp-content/uploads/2026/02/FOTS.png
END:VEVENT
END:VCALENDAR