BEGIN:VCALENDAR
VERSION:2.0
PRODID:-//CAPSE - ECPv6.15.20//NONSGML v1.0//EN
CALSCALE:GREGORIAN
METHOD:PUBLISH
X-WR-CALNAME:CAPSE
X-ORIGINAL-URL:https://capse.org
X-WR-CALDESC:Eventos para CAPSE
REFRESH-INTERVAL;VALUE=DURATION:PT1H
X-Robots-Tag:noindex
X-PUBLISHED-TTL:PT1H
BEGIN:VTIMEZONE
TZID:America/Mexico_City
BEGIN:STANDARD
TZOFFSETFROM:-0600
TZOFFSETTO:-0600
TZNAME:CST
DTSTART:20250101T000000
END:STANDARD
END:VTIMEZONE
BEGIN:VEVENT
DTSTART;TZID=America/Mexico_City:20260405T090000
DTEND;TZID=America/Mexico_City:20260405T150000
DTSTAMP:20260425T121647
CREATED:20260326T190807Z
LAST-MODIFIED:20260326T192321Z
UID:2670-1775379600-1775401200@capse.org
SUMMARY:Curso de conducción evasiva-defensiva
DESCRIPTION:OBJETIVO: Al término del curso\, el participante desarrollará habilidades técnicas\, tácticas y actitudinales necesarias para conducir un vehículo de manera segura\, preventiva y reactiva\, empleando los principios de la conducción defensiva y maniobras evasivas\, con el fin de minimizar riesgos y protegiendo la integridad propia y de los demás ocupantes. \n\n\n\n \n\n\n\n📍  Lugar: Pista RTS ubicada en Polotitlán de la Ilustración\, Edo. de Méx. C.P. 54227 \n\n\n\n\n\n\n\n \n\n\n\n \n\n\n\n\n\n\n\n \n\n\n\n \n\n\n\nPROCEDIMIENTO DE INSCRIPCION: \n\n\n\n1. Realiza el depósito o trasferencia bancaria\, por la cantidad de $1\,000.00 MXN (UN MIL PESOS 00/100 M.N.) a nuestra cuenta bancaria Citi Banamex o por medio de la aplicación vía Clip. \n\n\n\n2. Puedes pagar a 6 meses sin sintereses. \n\n\n\nCUENTA CLABE 002180701240301867\n\n\n\n \n\n\n\n3. Envíanos un mensaje de whatsapp adjuntando: \n\n\n\n\nCopia de una identificación\n\n\n\nCaptura del comprobante de pago.\n\n\n\n\nLos costos están sujetos a cambios sin previo aviso. Al efectuar tu depósito inicial\, aseguras el pago sin modificación alguna. \n\n\n\n \n\n\n\n#capacitacion #armamento #escoltas #policías #militares  \n\n\n\n \n\n\n\n\n\nAsegura y confirma tu participación\n\n\n\n\n\n \n\n\n\n\n	\n		\n\n			\n			\n\n							\n					\n						Próximos eventos					\n				\n			\n			\n				\n											\n\n	\n	\n		\n			Abr		\n		\n			26		\n	\n\n\n	\n		\n			\n\n				\n					\n		\n		09:00 – 18:00	\n	\n					\n	\n		Trauma First Responder	\n\n				\n\n				\n			\n		\n	\n\n\n											\n\n	\n	\n		\n			May		\n		\n			6		\n	\n\n\n	\n		\n			\n\n				\n					\n		\n		18:00 – 21:00	\n	\n					\n	\n		DELITOS MAGICO-RELIGIOSOS	\n\n				\n\n				\n			\n		\n	\n\n\n											\n\n	\n	\n		\n			May		\n		\n			8		\n	\n\n\n	\n		\n			\n\n				\n					\n		\n		18:00 – 21:00	\n	\n					\n	\n		Dactiloscopía aplicada a la identificación humana	\n\n				\n\n				\n			\n		\n	\n\n\n									\n\n				\n	\n		Ver calendario	\n\n\n					\n	\n\n\n\n\n\n\n \n\n\n\nCursos recomendados \n\n\n\n\n\n\n\n\n\n\n\n \n\n\n\n \n\n\n\nINICIO
URL:https://capse.org/event/cced/
ATTACH;FMTTYPE=image/png:https://capse.org/wp-content/uploads/2026/03/Conduccion.png
END:VEVENT
END:VCALENDAR