BEGIN:VCALENDAR
VERSION:2.0
PRODID:-//CAPSE - ECPv6.15.20//NONSGML v1.0//EN
CALSCALE:GREGORIAN
METHOD:PUBLISH
X-ORIGINAL-URL:https://capse.org
X-WR-CALDESC:Eventos para CAPSE
REFRESH-INTERVAL;VALUE=DURATION:PT1H
X-Robots-Tag:noindex
X-PUBLISHED-TTL:PT1H
BEGIN:VTIMEZONE
TZID:America/Mexico_City
BEGIN:STANDARD
TZOFFSETFROM:-0600
TZOFFSETTO:-0600
TZNAME:CST
DTSTART:20250101T000000
END:STANDARD
END:VTIMEZONE
BEGIN:VEVENT
DTSTART;TZID=America/Mexico_City:20260411T090000
DTEND;TZID=America/Mexico_City:20260411T140000
DTSTAMP:20260425T120635
CREATED:20260120T040419Z
LAST-MODIFIED:20260329T143216Z
UID:1472-1775898000-1775916000@capse.org
SUMMARY:Práctica de Tiro 1er. Nivel para PRINCIPIANTES
DESCRIPTION:OBJETIVO: Que el participante\, adquiera\, incremente o mantenga los conocimientos y desarrolle las habilidades necesarias para manipular las armas de fuego de MANERA SEGURA\, con el fin de saber utilizarlas eficaz y eficientemente en cualquier situación\, en un contexto defensivo o deportivo. \n\n\n\n \n\n\n\nClínica de Tiro RECOMENDADA para quienes deseen adquirir un arma de fuego de manera legal para su seguridad y legítima defensa\, en la modalidad de Protección de Domicilio o para quienes deseen iniciarse en el Tiro Deportivo o Tiro Práctico de competencia. \n\n\n\n \n\n\n\n\n\n\n\n\n\n \n\n\n\n\n\n\n\n \n\n\n\n\n\n \n\n\n\n \n\n\n\nPROCEDIMIENTO DE INSCRIPCION: \n\n\n\n1. Realiza un depósito o trasferencia bancaria inicial\, por la cantidad de $1\,000.00 MXN a nuestra cuenta bancaria Citi Banamex o por medio de la aplicación vía Clip\, el resto lo puedes pagar en efectivo el día del evento\, antes de comenzar el curso. \n\n\n\n \n\n\n\nCUENTA CLABE 002180701240301867\n\n\n\n \n\n\n\nO si lo prefieres\, puedes pagar el total del curso hasta 6 meses sin intereses\, con cualquier tarjeta de crédito bancaria\, a través de nuestra aplicación Clip. \n\n\n\n2. Enviarnos vía whatsapp \n\n\n\n\nCopia de una identificación\n\n\n\nCaptura del comprobante de pago.\n\n\n\n\n3. Llenar formulario de registro. \n\n\n\nLos costos están sujetos a cambios sin previo aviso. Al efectuar tu depósito inicial\, aseguras el pago sin modificación alguna. \n\n\n\nEn el caso de que hayas efectuado tu depósito inicial o el pago completo del curso y por alguna razón no puedas asistir\, te reagendamos sin costo alguno\, siempre y cuando nos informes vía WhatsApp al menos 24 horas antes de la fecha en que se llevará a cabo el curso. \n\n\n\nSi requieres hospedaje\, no te preocupes\, tenemos convenio con nuestro hotel sede (Hotel Valle de México)\, en donde te ofrecerán una tarifa preferencial! \n\n\n\nAPROVECHA Y PAGA EN UNA SOLA EXHIBICION A 6 MESES SIN INTERESES!!! \n\n\n\n \n\n\n\n\n\nAquí toda la información del Curso\n\n\n\n\n\nDatos de registro\n\n\n\n \n\n\n\n\n\nAsegura y confirma tu participación\n\n\n\n\n\n \n\n\n\n \n\n\n\n\n	\n		\n\n			\n			\n\n							\n					\n						Próximos eventos					\n				\n			\n			\n				\n											\n\n	\n	\n		\n			Abr		\n		\n			26		\n	\n\n\n	\n		\n			\n\n				\n					\n		\n		09:00 – 18:00	\n	\n					\n	\n		Trauma First Responder	\n\n				\n\n				\n			\n		\n	\n\n\n											\n\n	\n	\n		\n			May		\n		\n			6		\n	\n\n\n	\n		\n			\n\n				\n					\n		\n		18:00 – 21:00	\n	\n					\n	\n		DELITOS MAGICO-RELIGIOSOS	\n\n				\n\n				\n			\n		\n	\n\n\n											\n\n	\n	\n		\n			May		\n		\n			8		\n	\n\n\n	\n		\n			\n\n				\n					\n		\n		18:00 – 21:00	\n	\n					\n	\n		Dactiloscopía aplicada a la identificación humana	\n\n				\n\n				\n			\n		\n	\n\n\n									\n\n				\n	\n		Ver calendario	\n\n\n					\n	\n\n\n\n\n\n\n \n\n\n\nCursos recomendados
URL:https://capse.org/event/1n-2601/
LOCATION:Campo de Tiro «Las Mesas»\, Paraje Las Mesas\, Fracc. Residencial Campestre\, Naucalpan de Juárez\, Estado de México\, 53650\, México
ATTACH;FMTTYPE=image/png:https://capse.org/wp-content/uploads/2026/01/Portada-CTD1N-2604.png
END:VEVENT
END:VCALENDAR