BEGIN:VCALENDAR
VERSION:2.0
PRODID:-//CAPSE - ECPv6.15.20//NONSGML v1.0//EN
CALSCALE:GREGORIAN
METHOD:PUBLISH
X-WR-CALNAME:CAPSE
X-ORIGINAL-URL:https://capse.org
X-WR-CALDESC:Eventos para CAPSE
REFRESH-INTERVAL;VALUE=DURATION:PT1H
X-Robots-Tag:noindex
X-PUBLISHED-TTL:PT1H
BEGIN:VTIMEZONE
TZID:America/Mexico_City
BEGIN:STANDARD
TZOFFSETFROM:-0600
TZOFFSETTO:-0600
TZNAME:CST
DTSTART:20250101T000000
END:STANDARD
END:VTIMEZONE
BEGIN:VEVENT
DTSTART;TZID=America/Mexico_City:20260412T090000
DTEND;TZID=America/Mexico_City:20260412T140000
DTSTAMP:20260425T140831
CREATED:20260120T031721Z
LAST-MODIFIED:20260310T034739Z
UID:2068-1775984400-1776002400@capse.org
SUMMARY:Introducción a las Armas de Fuego
DESCRIPTION:Curso-Taller de Arme\, Desarme y Limpieza de Armamento \n\n\n\n \n\n\n\n\n\nTe gustaría iniciar desde cero en el fascinante mundo de las armas de fuego? \n\n\n\nEntonces este Curso-Taller es para tí! \n\n\n\nMás que un taller\, son 5 horas de preguntas\, respuestas y mucho más!!! \n\n\n\n \n\n\n\n\n\n\n\n\n\n\n\n\n\n\n\n\n\n \n\n\n\n \n\n\n\n \n\n\n\n \n\n\n\n \n\n\n\n\n\n\n\n \n\n\n\n \n\n\n\nPROCEDIMIENTO DE INSCRIPCION: \n\n\n\n1. Realiza el depósito o trasferencia bancaria\, por la cantidad de $950.00 MXN a nuestra cuenta bancaria Citi Banamex o por medio de la aplicación vía Clip. \n\n\n\n \n\n\n\nCUENTA CLABE 002180701240301867\n\n\n\n \n\n\n\n2. Envíanos un mensaje de whatsapp adjuntando: \n\n\n\n\nCopia de una identificación\n\n\n\nCaptura del comprobante de pago.\n\n\n\n\nLos costos están sujetos a cambios sin previo aviso. Al efectuar tu depósito inicial\, aseguras el pago sin modificación alguna. \n\n\n\nEn el caso de que hayas efectuado tu depósito inicial o el pago completo del curso y por alguna razón no puedas asistir\, te reagendamos sin costo alguno\, siempre y cuando nos informes vía WhatsApp al menos 24 horas antes de la fecha en que se llevará a cabo el curso. \n\n\n\n#armas #pistola #limpieza #mantenimiento #tiro #capacitacion #armamento #escoltas #policías #militares  \n\n\n\n \n\n\n\n\n\n\n\n\n\n \n\n\n\n\n\n\n\n\n\n \n\n\n\n\n	\n		\n\n			\n			\n\n							\n					\n						Próximos eventos					\n				\n			\n			\n				\n											\n\n	\n	\n		\n			Abr		\n		\n			26		\n	\n\n\n	\n		\n			\n\n				\n					\n		\n		09:00 – 18:00	\n	\n					\n	\n		Trauma First Responder	\n\n				\n\n				\n			\n		\n	\n\n\n											\n\n	\n	\n		\n			May		\n		\n			6		\n	\n\n\n	\n		\n			\n\n				\n					\n		\n		18:00 – 21:00	\n	\n					\n	\n		DELITOS MAGICO-RELIGIOSOS	\n\n				\n\n				\n			\n		\n	\n\n\n											\n\n	\n	\n		\n			May		\n		\n			8		\n	\n\n\n	\n		\n			\n\n				\n					\n		\n		18:00 – 21:00	\n	\n					\n	\n		Dactiloscopía aplicada a la identificación humana	\n\n				\n\n				\n			\n		\n	\n\n\n									\n\n				\n	\n		Ver calendario	\n\n\n					\n	\n\n\n\n\n\n\n \n\n\n\nCursos recomendados \n\n\n\n\n\n\n\n\n\n\n\n \n\n\n\n \n\n\n\nINICIO
URL:https://capse.org/event/tadyla2604/
LOCATION:Centro de Capacitación CAPSE\, Avenida Primero de mayo No.15\, Piso 11\, Col. San Andrés Atoto\, Naucalpan de Juárez\, Estado de México\, 53500\, México
ATTACH;FMTTYPE=image/png:https://capse.org/wp-content/uploads/2026/01/TADYLA-260412.png
END:VEVENT
END:VCALENDAR