BEGIN:VCALENDAR
VERSION:2.0
PRODID:-//CAPSE - ECPv6.15.20//NONSGML v1.0//EN
CALSCALE:GREGORIAN
METHOD:PUBLISH
X-WR-CALNAME:CAPSE
X-ORIGINAL-URL:https://capse.org
X-WR-CALDESC:Eventos para CAPSE
REFRESH-INTERVAL;VALUE=DURATION:PT1H
X-Robots-Tag:noindex
X-PUBLISHED-TTL:PT1H
BEGIN:VTIMEZONE
TZID:America/Mexico_City
BEGIN:STANDARD
TZOFFSETFROM:-0600
TZOFFSETTO:-0600
TZNAME:CST
DTSTART:20250101T000000
END:STANDARD
END:VTIMEZONE
BEGIN:VEVENT
DTSTART;TZID=America/Mexico_City:20260506T180000
DTEND;TZID=America/Mexico_City:20260506T210000
DTSTAMP:20260425T140558
CREATED:20260421T051447Z
LAST-MODIFIED:20260421T051450Z
UID:2535-1778090400-1778101200@capse.org
SUMMARY:DELITOS MAGICO-RELIGIOSOS
DESCRIPTION:UN ENFOQUE CRIMINOLOGICO\n\n\n\n \n\n\n\n\n\n \n\n\n\n\n\n\n\n\n\n\n\nObjetivo general\n\n\n\nEl participante al término del curso\, conocerá las conductas delictivas vinculadas a creencias mágicas\, religiosas o rituales\, los analizará como fenómenos sociales\, psicológicos y culturales que inciden en la conducta criminal y valorará su importancia social y contribución de su abordaje desde la investigación criminológica. \n\n\n\n\n\n\n\nPúblico objetivo\n\n\n\n\nProfesionales de seguridad pública y privada\n\nPolicías\n\n\n\nInvestigadores\n\n\n\nPersonal de inteligencia\n\n\n\nEscoltas o personal de protección ejecutiva\n\n\n\n\n\nProfesionales del ámbito jurídico\n\nAbogados\n\n\n\nFiscales\n\n\n\nPersonal del Ministerio Público\n\n\n\nPeritos\n\n\n\n\n\nEspecialistas en ciencias sociales y conducta humana\n\nCriminólogos\n\n\n\nCriminalistas\n\n\n\nPsicólogos\n\n\n\nSociólogos\n\n\n\nTrabajadores sociales\n\n\n\n\n\nProfesionales del ámbito educativo\n\nDocentes\n\n\n\nOrientadores escolares\n\n\n\nInvestigadores en ciencias sociales\n\n\n\n\n\nPersonal de atención a víctimas\n\nIntegrantes de organizaciones civiles\n\n\n\nConsejeros familiares\n\n\n\nPersonal de asistencia social\n\n\n\n\n\nEstudiantes\n\nEstudiantes de criminología\, derecho\, psicología\, seguridad pública\, sociología o trabajo social interesados en el fenómeno de las sectas desde una perspectiva criminológica.\n\n\n\n\n\n\n \n\n\n\n\nPRECIOS: \n\n\n\n\nPúblico en general\n$350.00 MXN \n\n\n\n\nEstudiantes GTU con credencial vigente.\n300.00 MXN \n\n\n\n\n\n \n\n\n\n\nCurso en línea\n\n\n\n \n\n\n\n \n\n\n\n \n\n\n\n \n\n\n\n \n\n\n\nPROCEDIMIENTO DE INSCRIPCION: \n\n\n\n\nAntes de efectuar cualquier pago\, favor de inscribirte primero en nuestro Formulario de Registro\, el cual se CERRARA 24 horas antes de dar comienzo al curso.\n\n\n\nTe sugerimos inscribirte con suficiente tiempo de anticipación.\n\n\n\nRealiza el depósito o trasferencia bancaria\, a nuestra cuenta bancaria Citi Banamex.\n\n\n\n\n \n\n\n\n \n\n\n\nCUENTA CLABE 002180701404613401\n\n\n\n \n\n\n\n2. Envíanos un mensaje de whatsapp \n\n\n\n\nCon tu nombre\n\n\n\nCaptura del comprobante de pago.\n\n\n\nCopia de tu Credencial VIGENTE (alumno GTU)\n\n\n\n\nLos costos están sujetos a cambios sin previo aviso. Al efectuar tu depósito inicial\, aseguras el pago sin modificación alguna. \n\n\n\n\n\n3\, Llenar el Formulario de registro. \n\n\n\n\n\n\n\n\n\n\n\n\n\n\n\n\n\n\n\n\n\n\n\n\n\n\n\n \n\n\n\nEl canal de la criminalística y las ciencias forenses\n\n\n\n \n\n\n\n \n\n\n\n \n\n\n\n\n	\n		\n\n			\n			\n\n							\n					\n						Próximos eventos					\n				\n			\n			\n				\n											\n\n	\n	\n		\n			Abr		\n		\n			26		\n	\n\n\n	\n		\n			\n\n				\n					\n		\n		09:00 – 18:00	\n	\n					\n	\n		Trauma First Responder	\n\n				\n\n				\n			\n		\n	\n\n\n											\n\n	\n	\n		\n			May		\n		\n			6		\n	\n\n\n	\n		\n			\n\n				\n					\n		\n		18:00 – 21:00	\n	\n					\n	\n		DELITOS MAGICO-RELIGIOSOS	\n\n				\n\n				\n			\n		\n	\n\n\n											\n\n	\n	\n		\n			May		\n		\n			8		\n	\n\n\n	\n		\n			\n\n				\n					\n		\n		18:00 – 21:00	\n	\n					\n	\n		Dactiloscopía aplicada a la identificación humana	\n\n				\n\n				\n			\n		\n	\n\n\n									\n\n				\n	\n		Ver calendario	\n\n\n					\n	\n\n\n\n\n\n\n \n\n\n\nCursos recomendados \n\n\n\n\n\n\n\n\n\n\n\n \n\n\n\n \n\n\n\nINICIO
URL:https://capse.org/event/delitos-mrr/
END:VEVENT
END:VCALENDAR